BEGIN:VCALENDAR
VERSION:2.0
PRODID:-//ChamberMaster//Event Calendar 2.0//EN
METHOD:PUBLISH
X-PUBLISHED-TTL:P3D
REFRESH-INTERVAL:P3D
CALSCALE:GREGORIAN
BEGIN:VEVENT
DTSTART:20260416T180000Z
DTEND:20260416T190000Z
X-MICROSOFT-CDO-ALLDAYEVENT:FALSE
SUMMARY:Lunch & Learn
DESCRIPTION:Lunch & Learn\n\nDetecting A Gas Leak & What Steps to Take\n\nPresenter: Wyoming Gas\n\nBring your own lunch
X-ALT-DESC;FMTTYPE=text/html:<strong>Lunch &amp\; Learn<br />\nDetecting A Gas Leak &amp\; What Steps to Take<br />\nPresenter: Wyoming Gas<br />\nBring your own lunch</strong>
LOCATION:Gottsche Conference Room
UID:e.2849.37607
SEQUENCE:3
DTSTAMP:20260424T065641Z
URL:http://thermopoliswy.chambermaster.com/events/details/lunch-learn-37607
END:VEVENT

END:VCALENDAR
